BEGIN:VCALENDAR
VERSION:2.0
PRODID:-//Heart to Heart Healing - ECPv6.15.20//NONSGML v1.0//EN
CALSCALE:GREGORIAN
METHOD:PUBLISH
X-ORIGINAL-URL:https://www.heart-to-heart-healing.com
X-WR-CALDESC:Events for Heart to Heart Healing
REFRESH-INTERVAL;VALUE=DURATION:PT1H
X-Robots-Tag:noindex
X-PUBLISHED-TTL:PT1H
BEGIN:VTIMEZONE
TZID:America/Los_Angeles
BEGIN:DAYLIGHT
TZOFFSETFROM:-0800
TZOFFSETTO:-0700
TZNAME:PDT
DTSTART:20180311T100000
END:DAYLIGHT
BEGIN:STANDARD
TZOFFSETFROM:-0700
TZOFFSETTO:-0800
TZNAME:PST
DTSTART:20181104T090000
END:STANDARD
BEGIN:DAYLIGHT
TZOFFSETFROM:-0800
TZOFFSETTO:-0700
TZNAME:PDT
DTSTART:20190310T100000
END:DAYLIGHT
BEGIN:STANDARD
TZOFFSETFROM:-0700
TZOFFSETTO:-0800
TZNAME:PST
DTSTART:20191103T090000
END:STANDARD
BEGIN:DAYLIGHT
TZOFFSETFROM:-0800
TZOFFSETTO:-0700
TZNAME:PDT
DTSTART:20200308T100000
END:DAYLIGHT
BEGIN:STANDARD
TZOFFSETFROM:-0700
TZOFFSETTO:-0800
TZNAME:PST
DTSTART:20201101T090000
END:STANDARD
END:VTIMEZONE
BEGIN:VEVENT
DTSTART;TZID=America/Los_Angeles:20190119T090000
DTEND;TZID=America/Los_Angeles:20190120T180000
DTSTAMP:20260421T041805
CREATED:20180119T201850Z
LAST-MODIFIED:20181127T235421Z
UID:10000079-1547888400-1548007200@www.heart-to-heart-healing.com
SUMMARY:Basic Pranic Healing - Level I in Depoe Bay\, OR - Jan. 19/20
DESCRIPTION:In PRANIC HEALING® Level 1\, you learn the basics of working with your energy aura\, including learning to “scan\,” or feel the energy\, to “sweep\,” or clean away congested energy\, and to “energize\,” or supplement areas in your aura that have a pranic deficiency.  You begin by learning to activate the energy centers\, or “chakras\,” in the center of your hands.  This enables you to become sensitive to prana and scan a person’s – or your own – energy field to identify blockages and then cleanse\, energize and revitalize the area with new prana. \nPRANIC HEALING® has been taught to doctors\, nurses\, massage therapists\, acupuncturists\, chiropractors\, shiatsu practitioners\, and many others in the healing field. It has allowed them to heal confidently and consistently in the shortest learning time possible.  These professionals find PRANIC HEALING® very effective and easy to apply.  \nHere are some of the other topics covered in PRANIC HEALING® Level 1: \nEnergetic anatomy: You will learn to work with the network of chakras\, meridians and auras to accelerate the healing processes of your body. \nPreventive healing: You will learn to remove the negative energetic patterns of a disease to prevent it from fully manifesting as a physical ailment. \nSelf-Pranic healing: You will learn to apply these healing techniques to accelerate your own healing. \nStep-by-step techniques for ailments related to your: \n\nrespiratory system\, e.g.\, asthma\ncirculatory system\, e.g.\, heart ailments\ngastrointestinal system\, e.g.\, irritable bowel syndrome\nmusculoskeletal system\, e.g.\, arthritis and back pain\nreproductive system\, e.g.\, menstrual problems\nYou’ll also learn remedies for such common problems as migraines and sinusitis.\n\nAdditionally\, you’ll learn to apply distant healing to loved ones who are not present in the room with you. \nAll PRANIC HEALING® courses are “experiential\,” which means that you learn by actually performing the techniques and exercises in class – on yourself and those around you. During class\, all the principles will\nbe explained thoroughly and you will practice the techniques exhaustively so you will be confident in your ability to produce positive results when you finish the course. PRANIC HEALING® Level 1 is a prerequisite to all other courses. \n$350 early registration through January 5\, 2019; $375 regular price.   \n\nLiza Burney is approved by the National Certification Board for Therapeutic Massage & Bodywork (NCBTMB) as a continuing education  Approved Provider. #571 thru 7/15/2020. \nThis course is approved for 16 CE through NCBTMB. \nCertificate is an additional $25 to the course fee.  Please make arrangements in advance. \n\nLiza Burney\, through nwPranaWorks\, is approved by the National Certification Commission for Acupuncture and Oriental Medicine as a Professional Development Activity provider. PDA Provider #172081 thru 9/20/2019.\n \nThis Level I class  is approved for 16 CE hours (live) through NCCAOM. \n\nLiza Burney is approved via a joint partnership with Acute Care Education.   Learners will be awarded contact hours from Acute Care Education upon Successful Completion of each module.  Acute Care Education is approved as a provider of continuing nursing education by Montana Nurses Association\, an accredited approver with distinction by the American Nurses Credentialing Center’s Commission on Accreditation.  This Level 1 class is approved for 15 contact hours CNE.
URL:https://www.heart-to-heart-healing.com/event/bph-depoebay/
LOCATION:Worldmark Depoe Bay\, 939 N.W. Highway 101\, Depoe Bay\, OR\, 97341
CATEGORIES:Level I Classes
ATTACH;FMTTYPE=image/jpeg:https://www.heart-to-heart-healing.com/wp-content/uploads/2014/02/level-i-detail-e1392688017411.jpg
END:VEVENT
END:VCALENDAR