BEGIN:VCALENDAR
VERSION:2.0
PRODID:-//Heart to Heart Healing - ECPv6.15.20//NONSGML v1.0//EN
CALSCALE:GREGORIAN
METHOD:PUBLISH
X-ORIGINAL-URL:https://www.heart-to-heart-healing.com
X-WR-CALDESC:Events for Heart to Heart Healing
REFRESH-INTERVAL;VALUE=DURATION:PT1H
X-Robots-Tag:noindex
X-PUBLISHED-TTL:PT1H
BEGIN:VTIMEZONE
TZID:America/Los_Angeles
BEGIN:DAYLIGHT
TZOFFSETFROM:-0800
TZOFFSETTO:-0700
TZNAME:PDT
DTSTART:20170312T100000
END:DAYLIGHT
BEGIN:STANDARD
TZOFFSETFROM:-0700
TZOFFSETTO:-0800
TZNAME:PST
DTSTART:20171105T090000
END:STANDARD
BEGIN:DAYLIGHT
TZOFFSETFROM:-0800
TZOFFSETTO:-0700
TZNAME:PDT
DTSTART:20180311T100000
END:DAYLIGHT
BEGIN:STANDARD
TZOFFSETFROM:-0700
TZOFFSETTO:-0800
TZNAME:PST
DTSTART:20181104T090000
END:STANDARD
BEGIN:DAYLIGHT
TZOFFSETFROM:-0800
TZOFFSETTO:-0700
TZNAME:PDT
DTSTART:20190310T100000
END:DAYLIGHT
BEGIN:STANDARD
TZOFFSETFROM:-0700
TZOFFSETTO:-0800
TZNAME:PST
DTSTART:20191103T090000
END:STANDARD
BEGIN:DAYLIGHT
TZOFFSETFROM:-0800
TZOFFSETTO:-0700
TZNAME:PDT
DTSTART:20200308T100000
END:DAYLIGHT
BEGIN:STANDARD
TZOFFSETFROM:-0700
TZOFFSETTO:-0800
TZNAME:PST
DTSTART:20201101T090000
END:STANDARD
BEGIN:DAYLIGHT
TZOFFSETFROM:-0800
TZOFFSETTO:-0700
TZNAME:PDT
DTSTART:20210314T100000
END:DAYLIGHT
BEGIN:STANDARD
TZOFFSETFROM:-0700
TZOFFSETTO:-0800
TZNAME:PST
DTSTART:20211107T090000
END:STANDARD
BEGIN:DAYLIGHT
TZOFFSETFROM:-0800
TZOFFSETTO:-0700
TZNAME:PDT
DTSTART:20220313T100000
END:DAYLIGHT
BEGIN:STANDARD
TZOFFSETFROM:-0700
TZOFFSETTO:-0800
TZNAME:PST
DTSTART:20221106T090000
END:STANDARD
BEGIN:DAYLIGHT
TZOFFSETFROM:-0800
TZOFFSETTO:-0700
TZNAME:PDT
DTSTART:20230312T100000
END:DAYLIGHT
BEGIN:STANDARD
TZOFFSETFROM:-0700
TZOFFSETTO:-0800
TZNAME:PST
DTSTART:20231105T090000
END:STANDARD
BEGIN:DAYLIGHT
TZOFFSETFROM:-0800
TZOFFSETTO:-0700
TZNAME:PDT
DTSTART:20240310T100000
END:DAYLIGHT
BEGIN:STANDARD
TZOFFSETFROM:-0700
TZOFFSETTO:-0800
TZNAME:PST
DTSTART:20241103T090000
END:STANDARD
BEGIN:DAYLIGHT
TZOFFSETFROM:-0800
TZOFFSETTO:-0700
TZNAME:PDT
DTSTART:20250309T100000
END:DAYLIGHT
BEGIN:STANDARD
TZOFFSETFROM:-0700
TZOFFSETTO:-0800
TZNAME:PST
DTSTART:20251102T090000
END:STANDARD
BEGIN:DAYLIGHT
TZOFFSETFROM:-0800
TZOFFSETTO:-0700
TZNAME:PDT
DTSTART:20260308T100000
END:DAYLIGHT
BEGIN:STANDARD
TZOFFSETFROM:-0700
TZOFFSETTO:-0800
TZNAME:PST
DTSTART:20261101T090000
END:STANDARD
END:VTIMEZONE
BEGIN:VEVENT
DTSTART;TZID=America/Los_Angeles:20250719T090000
DTEND;TZID=America/Los_Angeles:20250720T180000
DTSTAMP:20260421T030013
CREATED:20250301T222507Z
LAST-MODIFIED:20250302T012447Z
UID:10000380-1752915600-1753034400@www.heart-to-heart-healing.com
SUMMARY:Advanced Pranic Healing - Level 2 Kennewick WA
DESCRIPTION:ADVANCED PRANIC HEALING® is a specialized workshop for those who wish to become more effective healers. \nIn ADVANCED PRANIC HEALING®\, you will learn how to utilize color prana for quicker\, more effective healing results. Color prana creates a more focused effect on the energy field and the chakras. \nHere are some of the other skills taught in ADVANCED PRANIC HEALING®: \nAdvanced color healing: You’ll learn to use the right proportion\, color combinations and degree of hue of colored prana. \nAdvanced scanning: You’ll learn to interpret and assess more quickly and effectively the correction of imbalances in the energy field patterns. \nPowerful specialized healing techniques: You’ll learn Rapid Healing of Wounds\,Cellular Regeneration\, Cleansing of the Internal Organs\, Cleansing of the Blood and other techniques to boost the immune system. \nHigh-level energetic methods of enhancing the body’s innate healing ability: You’ll learn techniques for working on AIDS\, cancer\, stroke\, diabetes\, kundalini syndrome (a state in which the aura is over-energized due to meditation or other excessive energy-development practices) and other severe ailments. \nInstructive healing: You’ll learn to help accelerate healing and recovery by influencing and reprogramming the consciousness of diseased cells and organs. \nAnd much more… \n\n$600 new student ($550 early registration thru July 5) \n$300 review student.   Pre-registration required.  No exceptions.  \n\nScholarships are available. \n 
URL:https://www.heart-to-heart-healing.com/event/aph-kennewick/
LOCATION:Pure Vida Barre Yoga\, 924 N. Columbia Center Blvd Suite #220\, Kennewick\, WA\, 99336
CATEGORIES:Level 2 Classes
ATTACH;FMTTYPE=image/jpeg:https://www.heart-to-heart-healing.com/wp-content/uploads/2022/07/th-2409791026.jpg
END:VEVENT
BEGIN:VEVENT
DTSTART;TZID=America/Los_Angeles:20250621T090000
DTEND;TZID=America/Los_Angeles:20250622T180000
DTSTAMP:20260421T030014
CREATED:20250301T222709Z
LAST-MODIFIED:20250302T001859Z
UID:10000378-1750496400-1750615200@www.heart-to-heart-healing.com
SUMMARY:Basic Pranic Healing - Level I in Kennewick\, WA
DESCRIPTION:In PRANIC HEALING® Level 1\, you learn the basics of working with your energy aura\, including learning to “scan\,” or feel the energy\, to “sweep\,” or clean away congested energy\, and to “energize\,” or supplement areas in your aura that have a pranic deficiency.  You begin by learning to activate the energy centers\, or “chakras\,” in the center of your hands.  This enables you to become sensitive to prana and scan a person’s – or your own – energy field to identify blockages and then cleanse\, energize and revitalize the area with new prana. \nPRANIC HEALING® has been taught to doctors\, nurses\, massage therapists\, acupuncturists\, chiropractors\, shiatsu practitioners\, and many others in the healing field. It has allowed them to heal confidently and consistently in the shortest learning time possible.  These professionals find PRANIC HEALING® very effective and easy to apply.  \nHere are some of the other topics covered in PRANIC HEALING® Level 1: \nEnergetic anatomy: You will learn to work with the network of chakras\, meridians and auras to accelerate the healing processes of your body. \nPreventive healing: You will learn to remove the negative energetic patterns of a disease to prevent it from fully manifesting as a physical ailment. \nSelf-Pranic healing: You will learn to apply these healing techniques to accelerate your own healing. \nStep-by-step techniques for ailments related to your: \n\nrespiratory system\, e.g.\, asthma\ncirculatory system\, e.g.\, heart ailments\ngastrointestinal system\, e.g.\, irritable bowel syndrome\nmusculoskeletal system\, e.g.\, arthritis and back pain\nreproductive system\, e.g.\, menstrual problems\nYou’ll also learn remedies for such common problems as migraines and sinusitis.\n\nAdditionally\, you’ll learn to apply distant healing to loved ones who are not present in the room with you. \nAll PRANIC HEALING® courses are “experiential\,” which means that you learn by actually performing the techniques and exercises in class – on yourself and those around you. During class\, all the principles will be explained thoroughly and you will practice the techniques exhaustively so you will be confident in your ability to produce positive results when you finish the course. PRANIC HEALING® Level 1 is a prerequisite to all other courses. \n$500 NEW student. Early registration $450 by June 7\, 2025.\n \n$250 REVIEW/repeat student.   \nPre-registration required.  No exceptions.  Seating is limited and class will fill.  No drop in’s day of event. Masks are optional.\n \nScholarships are available. \n Class is 9am – 6pm Saturday and Sunday.  \n  \n\nLiza Burney is approved via a joint partnership with Oregon Holistic Nurses Association (OHNA) to provide continuing education contact hours for nurses. Learners will be awarded contact hours from OHNA upon successful completion of course. 19.2 continuing education contact hours are available for the Level 1 Pranic Healing Class.   ($35 certificate fee)  Provider (OHNA) approved by the California Board of Registered Nursing\, Provider #15842.   OHNA members receive a 20% discount on regular registration fees = $400. \n\n \nLiza Burney\, through PranaWorks\, is an approved PDA Provider with NCCAOM to provide continuing education hours to acupuncturists.  Pranic Healing Level 1 is approved for 16 PDA points.  Provider #172081. \n  \n\n\nREGISTRATION FORM:
URL:https://www.heart-to-heart-healing.com/event/bph-kennewick-3/
LOCATION:Pure Vida Barre Yoga\, 924 N. Columbia Center Blvd Suite #220\, Kennewick\, WA\, 99336
CATEGORIES:Level I Classes
ATTACH;FMTTYPE=image/jpeg:https://www.heart-to-heart-healing.com/wp-content/uploads/2022/07/th-3669017734.jpg
END:VEVENT
BEGIN:VEVENT
DTSTART;TZID=America/Los_Angeles:20250620T170000
DTEND;TZID=America/Los_Angeles:20250620T190000
DTSTAMP:20260421T030014
CREATED:20250513T204258Z
LAST-MODIFIED:20250602T002518Z
UID:10000387-1750438800-1750446000@www.heart-to-heart-healing.com
SUMMARY:Introduction to Pranic Healing - Kennewick\, WA
DESCRIPTION:You are invited to this special Energy Healing class where we will learn a ‘no-touch’ technique for accelerating our body’s ability to heal itself.  Often referred to as “acupuncture without needles\,” Energy Healing is very effective\, is easy to learn and easy to use.  Come and discover your innate ability for healing with a technique that is drug-free and can be used anytime\, any place\, without any special tools. \nYou will learn how to assess your energetic condition and treat common first aid ailments such as cuts\, scrapes and burns.   This is not your ordinary sit-down lecture; you’ll be practicing each of these skills as you learn them.  The specific energy healing modality you’ll be learning is Pranic Healing.  Pranic Healing is a no-touch healing technique that offers specific\, tested\, step-by-step procedures for accelerating your self-healing ability!  Pranic Healing works on physical conditions as well as things like stress\, fears and phobias.  It complements Western medicine as well as other healing modalities. \nPranic Healing is based on the principle that\, in addition to our physical body\, we all have an energy body.   This energy body acts as the template for the physical body\, so when the energy body is out of balance\, the physical body will reflect that by manifesting a “symptom.”  This very simple\, yet powerful practice provides us with ways to keep the energy body in balance.  As a result\, the physical body heals itself\, sometimes at an amazing rate. \nAccording to Ms. Burney\, “Many people have the idea that in order to do energy healing\, a person has to have some ‘special’ talent.  That is simply not the case.  Anyone can do this.  My goal is to present this information in a way that is straightforward and makes sense\, not as some mystical or ‘supernatural’ process that we can’t understand.  There’s lots of scientific research behind this work\, and I know if I want to see the research\, other people do too.  My strong professional background as an attorney definitely influences my presentations and the teaching I do. ” \nLiza Burney\, owner of Heart to Heart Healing\, has been studying subtle energy for over twenty years and is a frequent speaker at events and Expos on a variety of energy healing topics.  Pranic Healing is respectful of all religions and philosophies. \nGo to top
URL:https://www.heart-to-heart-healing.com/event/2025-06/
LOCATION:Pure Vida Barre Yoga\, 924 N. Columbia Center Blvd Suite #220\, Kennewick\, WA\, 99336
CATEGORIES:Intro Classes
ATTACH;FMTTYPE=image/png:https://www.heart-to-heart-healing.com/wp-content/uploads/2025/05/BPH-APH-FB-post-redgold4.png
END:VEVENT
BEGIN:VEVENT
DTSTART;TZID=America/Los_Angeles:20190504T090000
DTEND;TZID=America/Los_Angeles:20190505T180000
DTSTAMP:20260421T030014
CREATED:20190108T215111Z
LAST-MODIFIED:20190325T212947Z
UID:10000238-1556960400-1557079200@www.heart-to-heart-healing.com
SUMMARY:Basic Pranic Healing - Level I in Kennewick\, WA\, May 4/5\, 2019
DESCRIPTION:In PRANIC HEALING® Level 1\, you learn the basics of working with your energy aura\, including learning to “scan\,” or feel the energy\, to “sweep\,” or clean away congested energy\, and to “energize\,” or supplement areas in your aura that have a pranic deficiency.  You begin by learning to activate the energy centers\, or “chakras\,” in the center of your hands.  This enables you to become sensitive to prana and scan a person’s – or your own – energy field to identify blockages and then cleanse\, energize and revitalize the area with new prana. \nPRANIC HEALING® has been taught to doctors\, nurses\, massage therapists\, acupuncturists\, chiropractors\, shiatsu practitioners\, and many others in the healing field. It has allowed them to heal confidently and consistently in the shortest learning time possible.  These professionals find PRANIC HEALING® very effective and easy to apply.  \nHere are some of the other topics covered in PRANIC HEALING® Level 1: \nEnergetic anatomy: You will learn to work with the network of chakras\, meridians and auras to accelerate the healing processes of your body. \nPreventive healing: You will learn to remove the negative energetic patterns of a disease to prevent it from fully manifesting as a physical ailment. \nSelf-Pranic healing: You will learn to apply these healing techniques to accelerate your own healing. \nStep-by-step techniques for ailments related to your: \n\nrespiratory system\, e.g.\, asthma\ncirculatory system\, e.g.\, heart ailments\ngastrointestinal system\, e.g.\, irritable bowel syndrome\nmusculoskeletal system\, e.g.\, arthritis and back pain\nreproductive system\, e.g.\, menstrual problems\nYou’ll also learn remedies for such common problems as migraines and sinusitis.\n\nAdditionally\, you’ll learn to apply distant healing to loved ones who are not present in the room with you. \nAll PRANIC HEALING® courses are “experiential\,” which means that you learn by actually performing the techniques and exercises in class – on yourself and those around you. During class\, all the principles will be explained thoroughly and you will practice the techniques exhaustively so you will be confident in your ability to produce positive results when you finish the course. PRANIC HEALING® Level 1 is a prerequisite to all other courses. \n$350 early registration through April 20\, 2019; $375 regular price after that.\n \n\nLiza Burney is approved by the National Certification Board for Therapeutic Massage & Bodywork (NCBTMB) as a continuing education  Approved Provider. #571 thru 7/15/2020. \nThis course is approved for 16 CE through NCBTMB.  Certificate is an additional $25 to the course fee.  Please make arrangements in advance. \n\nLiza Burney\, through nwPranaWorks\, is approved by the National Certification Commission for Acupuncture and Oriental Medicine as a Professional Development Activity provider. PDA Provider #172081 thru 9/20/2019.\n \nThis Level I class  is approved for 16 CE hours (live) through NCCAOM. \n\nLiza Burney is approved via a joint partnership with Acute Care Education.   Learners will be awarded contact hours from Acute Care Education upon Successful Completion of each module.  Acute Care Education is approved as a provider of continuing nursing education by Montana Nurses Association\, an accredited approver with distinction by the American Nurses Credentialing Center’s Commission on Accreditation.  This Level 1 class is approved for 15 contact hours CNE. \n\n\n\n\n 
URL:https://www.heart-to-heart-healing.com/event/bph-richland/
LOCATION:Pure Vida Barre Yoga\, 924 N. Columbia Center Blvd Suite #220\, Kennewick\, WA\, 99336
CATEGORIES:Level I Classes
ATTACH;FMTTYPE=image/jpeg:https://www.heart-to-heart-healing.com/wp-content/uploads/2014/02/level-i-detail-e1392688017411.jpg
END:VEVENT
BEGIN:VEVENT
DTSTART;TZID=America/Los_Angeles:20180818T090000
DTEND;TZID=America/Los_Angeles:20180819T180000
DTSTAMP:20260421T030014
CREATED:20180118T213338Z
LAST-MODIFIED:20180204T190535Z
UID:10000078-1534582800-1534701600@www.heart-to-heart-healing.com
SUMMARY:Basic Pranic Healing - Level I in Kennewick\, WA
DESCRIPTION:In PRANIC HEALING® Level 1\, you learn the basics of working with your energy aura\, including learning to “scan\,” or feel the energy\, to “sweep\,” or clean away congested energy\, and to “energize\,” or supplement areas in your aura that have a pranic deficiency.  You begin by learning to activate the energy centers\, or “chakras\,” in the center of your hands.  This enables you to become sensitive to prana and scan a person’s – or your own – energy field to identify blockages and then cleanse\, energize and revitalize the area with new prana. \nPRANIC HEALING® has been taught to doctors\, nurses\, massage therapists\, acupuncturists\, chiropractors\, shiatsu practitioners\, and many others in the healing field. It has allowed them to heal confidently and consistently in the shortest learning time possible.  These professionals find PRANIC HEALING® very effective and easy to apply.  \n$350 early registration through August 4\, 2018; $375 regular price.   \n\nLiza Burney is approved by the National Certification Board for Therapeutic Massage & Bodywork (NCBTMB) as a continuing education  Approved Provider. #571 thru 7/15/2020. \nThis course is approved for 16 CE through NCBTMB. \nCertificate is an additional $25 to the course fee.  Please make arrangements in advance.
URL:https://www.heart-to-heart-healing.com/event/bph-kennewick-2/
LOCATION:Pure Vida Barre Yoga\, 924 N. Columbia Center Blvd Suite #220\, Kennewick\, WA\, 99336
CATEGORIES:Level I Classes
ATTACH;FMTTYPE=image/jpeg:https://www.heart-to-heart-healing.com/wp-content/uploads/2014/02/level-i-detail-e1392688017411.jpg
END:VEVENT
END:VCALENDAR