BEGIN:VCALENDAR
VERSION:2.0
PRODID:-//Heart to Heart Healing - ECPv6.15.20//NONSGML v1.0//EN
CALSCALE:GREGORIAN
METHOD:PUBLISH
X-ORIGINAL-URL:https://www.heart-to-heart-healing.com
X-WR-CALDESC:Events for Heart to Heart Healing
REFRESH-INTERVAL;VALUE=DURATION:PT1H
X-Robots-Tag:noindex
X-PUBLISHED-TTL:PT1H
BEGIN:VTIMEZONE
TZID:America/Los_Angeles
BEGIN:DAYLIGHT
TZOFFSETFROM:-0800
TZOFFSETTO:-0700
TZNAME:PDT
DTSTART:20140309T100000
END:DAYLIGHT
BEGIN:STANDARD
TZOFFSETFROM:-0700
TZOFFSETTO:-0800
TZNAME:PST
DTSTART:20141102T090000
END:STANDARD
BEGIN:DAYLIGHT
TZOFFSETFROM:-0800
TZOFFSETTO:-0700
TZNAME:PDT
DTSTART:20150308T100000
END:DAYLIGHT
BEGIN:STANDARD
TZOFFSETFROM:-0700
TZOFFSETTO:-0800
TZNAME:PST
DTSTART:20151101T090000
END:STANDARD
BEGIN:DAYLIGHT
TZOFFSETFROM:-0800
TZOFFSETTO:-0700
TZNAME:PDT
DTSTART:20160313T100000
END:DAYLIGHT
BEGIN:STANDARD
TZOFFSETFROM:-0700
TZOFFSETTO:-0800
TZNAME:PST
DTSTART:20161106T090000
END:STANDARD
END:VTIMEZONE
BEGIN:VEVENT
DTSTART;TZID=America/Los_Angeles:20150630T180000
DTEND;TZID=America/Los_Angeles:20150630T200000
DTSTAMP:20260421T202213
CREATED:20150211T080527Z
LAST-MODIFIED:20150211T080527Z
UID:10000010-1435687200-1435694400@www.heart-to-heart-healing.com
SUMMARY:Introduction to Energy Healing - Portland
DESCRIPTION:You are invited to this special Energy Healing class where we will learn a ‘no-touch’ technique for accelerating our body’s ability to heal itself.  Often referred to as “acupuncture without needles\,” Energy Healing is very effective\, is easy to learn and easy to use.  Come and discover your innate ability for healing with a technique that is drug-free and can be used anytime\, any place\, without any special tools. \nYou will learn how to assess your energetic condition and treat common first aid ailments such as cuts\, scrapes and burns.   This is not your ordinary sit-down lecture; you’ll be practicing each of these skills as you learn them.  The specific energy healing modality you’ll be learning is Pranic Healing.  Pranic Healing is a no-touch healing technique that offers specific\, tested\, step-by-step procedures for accelerating your self-healing ability!  Pranic Healing works on physical conditions as well as things like stress\, fears and phobias.  It complements Western medicine as well as other healing modalities. \nPranic Healing is based on the principle that\, in addition to our physical body\, we all have an energy body.   This energy body acts as the template for the physical body\, so when the energy body is out of balance\, the physical body will reflect that by manifesting a “symptom.”  This very simple\, yet powerful practice provides us with ways to keep the energy body in balance.  As a result\, the physical body heals itself\, sometimes at an amazing rate. \nAccording to Ms. Burney\, “Many people have the idea that in order to do energy healing\, a person has to have some ‘special’ talent.  That is simply not the case.  Anyone can do this.  My goal is to present this information in a way that is straightforward and makes sense\, not as some mystical or ‘supernatural’ process that we can’t understand.  There’s lots of scientific research behind this work\, and I know if I want to see the research\, other people do too.  My strong professional background as an attorney definitely influences my presentations and the teaching I do. ” \nLiza Burney\, owner of Heart to Heart Healing\, located in Portland\, OR\, has been studying subtle energy for over ten years and is a frequent speaker at events and Expos on a variety of energy healing topics.  Pranic Healing is respectful of all religions and philosophies.
URL:https://www.heart-to-heart-healing.com/event/introduction-to-energy-healing-portland-4/
LOCATION:People’s Food Coop\, 3029 SE 21st Ave\, Portland\, 97202
CATEGORIES:Intro Classes
ATTACH;FMTTYPE=image/jpeg:https://www.heart-to-heart-healing.com/wp-content/uploads/2014/02/hand-right-e1392757380577.jpg
END:VEVENT
BEGIN:VEVENT
DTSTART;TZID=America/Los_Angeles:20150421T180000
DTEND;TZID=America/Los_Angeles:20150421T200000
DTSTAMP:20260421T202213
CREATED:20150211T080200Z
LAST-MODIFIED:20150211T080200Z
UID:10000008-1429639200-1429646400@www.heart-to-heart-healing.com
SUMMARY:SuperBrain Yoga - Portland
DESCRIPTION:Learn to boost your vitality\, recharge your brain power\, experience emotional calmness and mental clarity with this ancient technique that harnesses the body’s subtle energies.\n\nSuperBrain Yoga® is a simple and effective technique to energize and recharge the brain. It is based on the principles of subtle energy and ear acupuncture to balance the left and right brain energies. \nThrough this simple yet powerful exercise you can experience mental clarity\, emotional calmness\, razor sharp focus and increased learning ability.  Pilot studies show dramatic improvements in children diagnosed with Autism\, ADD and ADHD\, such as increase in academic and behavioral performance\, greater class participation and improved social skills. This is also a great exercise to keep the mind sharp as the body ages! \nTogether with Pranic Healing® you can learn to harness subtle energy to flush out stress\, boost your vitality and accelerate healing of common health problems! Pranic Healing® is based on the fundamental principle that the body is a self-repairing living entity that possesses the innate ability to heal itself.
URL:https://www.heart-to-heart-healing.com/event/superbrain-yoga-2/
LOCATION:People’s Food Coop\, 3029 SE 21st Ave\, Portland\, 97202
CATEGORIES:Intro Classes
ATTACH;FMTTYPE=image/bmp:https://www.heart-to-heart-healing.com/wp-content/uploads/2014/09/wg6fpxey.bmp
END:VEVENT
BEGIN:VEVENT
DTSTART;TZID=America/Los_Angeles:20150207T110000
DTEND;TZID=America/Los_Angeles:20150207T130000
DTSTAMP:20260421T202213
CREATED:20141120T005617Z
LAST-MODIFIED:20141120T005617Z
UID:10000104-1423306800-1423314000@www.heart-to-heart-healing.com
SUMMARY:Pranic Healing for Stress Relief
DESCRIPTION:You are invited to this special Energy Healing class where we will learn a ‘no-touch’ technique for stress relief.  Often referred to as “acupuncture without needles\,” Energy Healing is very effective\, is easy to learn and easy to use.  Come and discover your innate ability for healing with a technique that is drug-free and can be used anytime\, any place\, without any special tools. \nYou will learn how to assess your energetic condition and learn some stress reduction skills.   This is not your ordinary sit-down lecture; you’ll be practicing each of these skills as you learn them.  The specific energy healing modality you’ll be learning is Pranic Healing.  Pranic Healing is a no-touch healing technique that offers specific\, tested\, step-by-step procedures for accelerating your self-healing ability!  Pranic Healing complements Western medicine as well as other healing modalities. \nPranic Healing is based on the principle that\, in addition to our physical body\, we all have an energy body.   This energy body acts as the template for the physical body\, so when the energy body is out of balance\, the physical body will reflect that by manifesting a “symptom.”  This very simple\, yet powerful practice provides us with ways to keep the energy body in balance.  As a result\, the physical body heals itself\, sometimes at an amazing rate. \nAccording to Ms. Burney\, “Many people have the idea that in order to do energy healing\, a person has to have some ‘special’ talent.  That is simply not the case.  Anyone can do this.  My goal is to present this information in a way that is straightforward and makes sense\, not as some mystical or ‘supernatural’ process that we can’t understand.  There’s lots of scientific research behind this work\, and I know if I want to see the research\, other people do too.  My strong professional background as an attorney definitely influences my presentations and the teaching I do. ” \nLiza Burney\, owner of Heart to Heart Healing\, located in Portland\, OR\, has been studying subtle energy for over ten years and is a frequent speaker at events and Expos on a variety of energy healing topics.  Pranic Healing is respectful of all religions and philosophies.
URL:https://www.heart-to-heart-healing.com/event/pranic-healing-for-stress-relief/
LOCATION:People’s Food Coop\, 3029 SE 21st Ave\, Portland\, 97202
CATEGORIES:Intro Classes
ATTACH;FMTTYPE=image/jpeg:https://www.heart-to-heart-healing.com/wp-content/uploads/2014/09/iStock_000014913653Large-christmas-candle-small.jpg
END:VEVENT
BEGIN:VEVENT
DTSTART;TZID=America/Los_Angeles:20150124T140000
DTEND;TZID=America/Los_Angeles:20150124T160000
DTSTAMP:20260421T202213
CREATED:20141120T005737Z
LAST-MODIFIED:20141120T005737Z
UID:10000088-1422108000-1422115200@www.heart-to-heart-healing.com
SUMMARY:Introduction to Energy Healing - Portland
DESCRIPTION:You are invited to this special Energy Healing class where we will learn a ‘no-touch’ technique for accelerating our body’s ability to heal itself.  Often referred to as “acupuncture without needles\,” Energy Healing is very effective\, is easy to learn and easy to use.  Come and discover your innate ability for healing with a technique that is drug-free and can be used anytime\, any place\, without any special tools. \nYou will learn how to assess your energetic condition and treat common first aid ailments such as cuts\, scrapes and burns.   This is not your ordinary sit-down lecture; you’ll be practicing each of these skills as you learn them.  The specific energy healing modality you’ll be learning is Pranic Healing.  Pranic Healing is a no-touch healing technique that offers specific\, tested\, step-by-step procedures for accelerating your self-healing ability!  Pranic Healing works on physical conditions as well as things like stress\, fears and phobias.  It complements Western medicine as well as other healing modalities. \nPranic Healing is based on the principle that\, in addition to our physical body\, we all have an energy body.   This energy body acts as the template for the physical body\, so when the energy body is out of balance\, the physical body will reflect that by manifesting a “symptom.”  This very simple\, yet powerful practice provides us with ways to keep the energy body in balance.  As a result\, the physical body heals itself\, sometimes at an amazing rate. \nAccording to Ms. Burney\, “Many people have the idea that in order to do energy healing\, a person has to have some ‘special’ talent.  That is simply not the case.  Anyone can do this.  My goal is to present this information in a way that is straightforward and makes sense\, not as some mystical or ‘supernatural’ process that we can’t understand.  There’s lots of scientific research behind this work\, and I know if I want to see the research\, other people do too.  My strong professional background as an attorney definitely influences my presentations and the teaching I do. ” \nLiza Burney\, owner of Heart to Heart Healing\, located in Portland\, OR\, has been studying subtle energy for over ten years and is a frequent speaker at events and Expos on a variety of energy healing topics.  Pranic Healing is respectful of all religions and philosophies.
URL:https://www.heart-to-heart-healing.com/event/introduction-to-energy-healing-portland-3/
LOCATION:People’s Food Coop\, 3029 SE 21st Ave\, Portland\, 97202
CATEGORIES:Intro Classes
ATTACH;FMTTYPE=image/jpeg:https://www.heart-to-heart-healing.com/wp-content/uploads/2014/02/hand-right-e1392757380577.jpg
END:VEVENT
END:VCALENDAR