BEGIN:VCALENDAR
VERSION:2.0
PRODID:-//Heart to Heart Healing - ECPv6.15.20//NONSGML v1.0//EN
CALSCALE:GREGORIAN
METHOD:PUBLISH
X-ORIGINAL-URL:https://www.heart-to-heart-healing.com
X-WR-CALDESC:Events for Heart to Heart Healing
REFRESH-INTERVAL;VALUE=DURATION:PT1H
X-Robots-Tag:noindex
X-PUBLISHED-TTL:PT1H
BEGIN:VTIMEZONE
TZID:America/Los_Angeles
BEGIN:DAYLIGHT
TZOFFSETFROM:-0800
TZOFFSETTO:-0700
TZNAME:PDT
DTSTART:20130310T100000
END:DAYLIGHT
BEGIN:STANDARD
TZOFFSETFROM:-0700
TZOFFSETTO:-0800
TZNAME:PST
DTSTART:20131103T090000
END:STANDARD
BEGIN:DAYLIGHT
TZOFFSETFROM:-0800
TZOFFSETTO:-0700
TZNAME:PDT
DTSTART:20140309T100000
END:DAYLIGHT
BEGIN:STANDARD
TZOFFSETFROM:-0700
TZOFFSETTO:-0800
TZNAME:PST
DTSTART:20141102T090000
END:STANDARD
BEGIN:DAYLIGHT
TZOFFSETFROM:-0800
TZOFFSETTO:-0700
TZNAME:PDT
DTSTART:20150308T100000
END:DAYLIGHT
BEGIN:STANDARD
TZOFFSETFROM:-0700
TZOFFSETTO:-0800
TZNAME:PST
DTSTART:20151101T090000
END:STANDARD
BEGIN:DAYLIGHT
TZOFFSETFROM:-0800
TZOFFSETTO:-0700
TZNAME:PDT
DTSTART:20160313T100000
END:DAYLIGHT
BEGIN:STANDARD
TZOFFSETFROM:-0700
TZOFFSETTO:-0800
TZNAME:PST
DTSTART:20161106T090000
END:STANDARD
BEGIN:DAYLIGHT
TZOFFSETFROM:-0800
TZOFFSETTO:-0700
TZNAME:PDT
DTSTART:20170312T100000
END:DAYLIGHT
BEGIN:STANDARD
TZOFFSETFROM:-0700
TZOFFSETTO:-0800
TZNAME:PST
DTSTART:20171105T090000
END:STANDARD
BEGIN:DAYLIGHT
TZOFFSETFROM:-0800
TZOFFSETTO:-0700
TZNAME:PDT
DTSTART:20180311T100000
END:DAYLIGHT
BEGIN:STANDARD
TZOFFSETFROM:-0700
TZOFFSETTO:-0800
TZNAME:PST
DTSTART:20181104T090000
END:STANDARD
BEGIN:DAYLIGHT
TZOFFSETFROM:-0800
TZOFFSETTO:-0700
TZNAME:PDT
DTSTART:20190310T100000
END:DAYLIGHT
BEGIN:STANDARD
TZOFFSETFROM:-0700
TZOFFSETTO:-0800
TZNAME:PST
DTSTART:20191103T090000
END:STANDARD
END:VTIMEZONE
BEGIN:VEVENT
DTSTART;TZID=America/Los_Angeles:20180113T090000
DTEND;TZID=America/Los_Angeles:20180114T180000
DTSTAMP:20260421T084750
CREATED:20171213T191755Z
LAST-MODIFIED:20171228T190620Z
UID:10000222-1515834000-1515952800@www.heart-to-heart-healing.com
SUMMARY:Basic Pranic Healing - Level I in Portland
DESCRIPTION:In PRANIC HEALING® Level 1\, you learn the basics of working with your energy aura\, including learning to “scan\,” or feel the energy\, to “sweep\,” or clean away congested energy\, and to “energize\,” or supplement areas in your aura that have a pranic deficiency.  You begin by learning to activate the energy centers\, or “chakras\,” in the center of your hands.  This enables you to become sensitive to prana and scan a person’s – or your own – energy field to identify blockages and then cleanse\, energize and revitalize the area with new prana. \nPRANIC HEALING® has been taught to doctors\, nurses\, massage therapists\, acupuncturists\, chiropractors\, shiatsu practitioners\, and many others in the healing field. It has allowed them to heal confidently and consistently in the shortest learning time possible.  These professionals find PRANIC HEALING® very effective and easy to apply.  \n$350 early registration through December 30; $375 regular price after that.\n \nTo register and for more information\, process online registration or print out registration form and mail in with your $50 deposit.  Balance due at class. \nLink to Paper Registration Form
URL:https://www.heart-to-heart-healing.com/event/bphpdx201801/
LOCATION:Opening to Life Studio\, 407 NE 12th Ave\, Portland\, 97232
CATEGORIES:Level I Classes
ATTACH;FMTTYPE=image/jpeg:https://www.heart-to-heart-healing.com/wp-content/uploads/2014/02/level-i-detail-e1392688017411.jpg
END:VEVENT
BEGIN:VEVENT
DTSTART;TZID=America/Los_Angeles:20140621T090000
DTEND;TZID=America/Los_Angeles:20140622T180000
DTSTAMP:20260421T084750
CREATED:20140218T094814Z
LAST-MODIFIED:20140502T064628Z
UID:10000118-1403341200-1403460000@www.heart-to-heart-healing.com
SUMMARY:Basic Pranic Healing - Level I
DESCRIPTION:In PRANIC HEALING® Level 1\, you learn the basics of working with your energy aura\, including learning to “scan\,” or feel the energy\, to “sweep\,” or clean away congested energy\, and to “energize\,” or supplement areas in your aura that have a pranic deficiency.  You begin by learning to activate the energy centers\, or “chakras\,” in the center of your hands.  This enables you to become sensitive to prana and scan a person’s – or your own – energy field to identify blockages and then cleanse\, energize and revitalize the area with new prana. \nPRANIC HEALING® has been taught to doctors\, nurses\, massage therapists\, acupuncturists\, chiropractors\, shiatsu practitioners\, and many others in the healing field. It has allowed them to heal confidently and consistently in the shortest learning time possible.  These professionals find PRANIC HEALING® very effective and easy to apply.   \nTo register and for more information: CLICK HERE.
URL:https://www.heart-to-heart-healing.com/event/basic-pranic-healing-level-i-2/
LOCATION:Opening to Life Studio\, 407 NE 12th Ave\, Portland\, 97232
CATEGORIES:Level I Classes
ATTACH;FMTTYPE=image/jpeg:https://www.heart-to-heart-healing.com/wp-content/uploads/2014/02/level-i-detail-e1392688017411.jpg
END:VEVENT
END:VCALENDAR