BEGIN:VCALENDAR
VERSION:2.0
PRODID:-//Heart to Heart Healing - ECPv6.15.20//NONSGML v1.0//EN
CALSCALE:GREGORIAN
METHOD:PUBLISH
X-ORIGINAL-URL:https://www.heart-to-heart-healing.com
X-WR-CALDESC:Events for Heart to Heart Healing
REFRESH-INTERVAL;VALUE=DURATION:PT1H
X-Robots-Tag:noindex
X-PUBLISHED-TTL:PT1H
BEGIN:VTIMEZONE
TZID:America/Los_Angeles
BEGIN:DAYLIGHT
TZOFFSETFROM:-0800
TZOFFSETTO:-0700
TZNAME:PDT
DTSTART:20160313T100000
END:DAYLIGHT
BEGIN:STANDARD
TZOFFSETFROM:-0700
TZOFFSETTO:-0800
TZNAME:PST
DTSTART:20161106T090000
END:STANDARD
BEGIN:DAYLIGHT
TZOFFSETFROM:-0800
TZOFFSETTO:-0700
TZNAME:PDT
DTSTART:20170312T100000
END:DAYLIGHT
BEGIN:STANDARD
TZOFFSETFROM:-0700
TZOFFSETTO:-0800
TZNAME:PST
DTSTART:20171105T090000
END:STANDARD
BEGIN:DAYLIGHT
TZOFFSETFROM:-0800
TZOFFSETTO:-0700
TZNAME:PDT
DTSTART:20180311T100000
END:DAYLIGHT
BEGIN:STANDARD
TZOFFSETFROM:-0700
TZOFFSETTO:-0800
TZNAME:PST
DTSTART:20181104T090000
END:STANDARD
END:VTIMEZONE
BEGIN:VEVENT
DTSTART;TZID=America/Los_Angeles:20171118T143000
DTEND;TZID=America/Los_Angeles:20171118T163000
DTSTAMP:20260423T085220
CREATED:20171025T011949Z
LAST-MODIFIED:20171025T011949Z
UID:10000212-1511015400-1511022600@www.heart-to-heart-healing.com
SUMMARY:Introduction to Pranic Healing - Portland
DESCRIPTION:You are invited to this special Energy Healing class where we will learn a ‘no-touch’ technique for accelerating our body’s ability to heal itself.  Often referred to as “acupuncture without needles\,” Energy Healing is very effective\, is easy to learn and easy to use.  Come and discover your innate ability for healing with a technique that is drug-free and can be used anytime\, any place\, without any special tools. \nYou will learn how to assess your energetic condition and treat common first aid ailments such as cuts\, scrapes and burns.   This is not your ordinary sit-down lecture; you’ll be practicing each of these skills as you learn them.  The specific energy healing modality you’ll be learning is Pranic Healing.  Pranic Healing is a no-touch healing technique that offers specific\, tested\, step-by-step procedures for accelerating your self-healing ability!  Pranic Healing works on physical conditions as well as things like stress\, fears and phobias.  It complements Western medicine as well as other healing modalities. \nPranic Healing is based on the principle that\, in addition to our physical body\, we all have an energy body.   This energy body acts as the template for the physical body\, so when the energy body is out of balance\, the physical body will reflect that by manifesting a “symptom.”  This very simple\, yet powerful practice provides us with ways to keep the energy body in balance.  As a result\, the physical body heals itself\, sometimes at an amazing rate. \nAccording to Ms. Burney\, “Many people have the idea that in order to do energy healing\, a person has to have some ‘special’ talent.  That is simply not the case.  Anyone can do this.  My goal is to present this information in a way that is straightforward and makes sense\, not as some mystical or ‘supernatural’ process that we can’t understand.  There’s lots of scientific research behind this work\, and I know if I want to see the research\, other people do too.  My strong professional background as an attorney definitely influences my presentations and the teaching I do. ” \nLiza Burney\, owner of Heart to Heart Healing\, located in Portland\, OR\, has been studying subtle energy for over fifteen years and is a frequent speaker at events and Expos on a variety of energy healing topics.  Pranic Healing is respectful of all religions and philosophies. \n\nNCBTMB – Liza Burney is approved by the National Certification Board for Therapeutic Massage & Bodywork (NCBTMB) as a continuing education  Approved Provider. #571 thru 7/15/2017 \nThis class is approved for 2 hours of credit. Certificate available for additional $25.  Please make arrangements in advance. \n\nTo register\, please sign up here.  $20 cash/check at the door. \n 
URL:https://www.heart-to-heart-healing.com/event/introduction-to-pranic-healing-portland-3/
LOCATION:Multnomah Arts Center\, 7688 SW Capitol Hwy\, Portland\, OR\, 97219
CATEGORIES:Intro Classes
ATTACH;FMTTYPE=image/jpeg:https://www.heart-to-heart-healing.com/wp-content/uploads/2014/02/aura-clear.jpg
END:VEVENT
BEGIN:VEVENT
DTSTART;TZID=America/Los_Angeles:20170826T100000
DTEND;TZID=America/Los_Angeles:20170826T120000
DTSTAMP:20260423T085220
CREATED:20170718T164221Z
LAST-MODIFIED:20170718T164221Z
UID:10000205-1503741600-1503748800@www.heart-to-heart-healing.com
SUMMARY:Introduction to Pranic Healing - Portland
DESCRIPTION:You are invited to this special Energy Healing class where we will learn a ‘no-touch’ technique for accelerating our body’s ability to heal itself.  Often referred to as “acupuncture without needles\,” Energy Healing is very effective\, is easy to learn and easy to use.  Come and discover your innate ability for healing with a technique that is drug-free and can be used anytime\, any place\, without any special tools. \nYou will learn how to assess your energetic condition and treat common first aid ailments such as cuts\, scrapes and burns.   This is not your ordinary sit-down lecture; you’ll be practicing each of these skills as you learn them.  The specific energy healing modality you’ll be learning is Pranic Healing.  Pranic Healing is a no-touch healing technique that offers specific\, tested\, step-by-step procedures for accelerating your self-healing ability!  Pranic Healing works on physical conditions as well as things like stress\, fears and phobias.  It complements Western medicine as well as other healing modalities. \nPranic Healing is based on the principle that\, in addition to our physical body\, we all have an energy body.   This energy body acts as the template for the physical body\, so when the energy body is out of balance\, the physical body will reflect that by manifesting a “symptom.”  This very simple\, yet powerful practice provides us with ways to keep the energy body in balance.  As a result\, the physical body heals itself\, sometimes at an amazing rate. \nAccording to Ms. Burney\, “Many people have the idea that in order to do energy healing\, a person has to have some ‘special’ talent.  That is simply not the case.  Anyone can do this.  My goal is to present this information in a way that is straightforward and makes sense\, not as some mystical or ‘supernatural’ process that we can’t understand.  There’s lots of scientific research behind this work\, and I know if I want to see the research\, other people do too.  My strong professional background as an attorney definitely influences my presentations and the teaching I do. ” \nLiza Burney\, owner of Heart to Heart Healing\, located in Portland\, OR\, has been studying subtle energy for over fifteen years and is a frequent speaker at events and Expos on a variety of energy healing topics.  Pranic Healing is respectful of all religions and philosophies. \n\nNCBTMB – Liza Burney is approved by the National Certification Board for Therapeutic Massage & Bodywork (NCBTMB) as a continuing education  Approved Provider. #571 thru 7/15/2020 \nThis class is approved for 2 hours of credit. Certificate available for additional $25.  Please make arrangements in advance. \n\nTo register\, please sign up here.  $20 cash/check at the door. \n 
URL:https://www.heart-to-heart-healing.com/event/introduction-to-pranic-healing-portland-2/
LOCATION:Multnomah Arts Center\, 7688 SW Capitol Hwy\, Portland\, OR\, 97219
CATEGORIES:Intro Classes
ATTACH;FMTTYPE=image/jpeg:https://www.heart-to-heart-healing.com/wp-content/uploads/2014/02/aura-clear.jpg
END:VEVENT
BEGIN:VEVENT
DTSTART;TZID=America/Los_Angeles:20170819T140000
DTEND;TZID=America/Los_Angeles:20170819T160000
DTSTAMP:20260423T085220
CREATED:20170726T235406Z
LAST-MODIFIED:20170726T235406Z
UID:10000209-1503151200-1503158400@www.heart-to-heart-healing.com
SUMMARY:Healing 4 Healers practice
DESCRIPTION:Ever wanted to just hang out with Pranic Healers and practice healing? Well\, this is it! Healing 4 Healers is a private (as in closed to the public) healing gathering just for Pranic Healers. This is a very supportive\, super-low pressure event. We basically pair up and work on each other. I’ll float around (not literally!) and help with anything. \nPlease bring your text books\, notebooks\, healing crystals and sprayer. We supply the buckets and salt. We would love if you could contribute $5 towards the rent. \nLOCATION: Multnomah Arts Center\, room 30 (park in the back lot\, use the door on the east-most edge of the building). \nTIME: 2pm – 4pm. And directly afterwards\, people who want to head to Prosperity Pie in the village for post-healing social hour! They offer soup\, quiche\, scones\, pie and tea/coffee. Stay as long as you like. Please RSVP so I know how many chairs to set out. Thanks!
URL:https://www.heart-to-heart-healing.com/event/healing-4-healers-practice/
LOCATION:Multnomah Arts Center\, 7688 SW Capitol Hwy\, Portland\, OR\, 97219
ATTACH;FMTTYPE=image/jpeg:https://www.heart-to-heart-healing.com/wp-content/uploads/2017/07/master-choa.jpg
END:VEVENT
BEGIN:VEVENT
DTSTART;TZID=America/Los_Angeles:20170722T100000
DTEND;TZID=America/Los_Angeles:20170722T120000
DTSTAMP:20260423T085220
CREATED:20170718T164613Z
LAST-MODIFIED:20170718T164613Z
UID:10000206-1500717600-1500724800@www.heart-to-heart-healing.com
SUMMARY:Level 1 and 2 review - Practical Skills
DESCRIPTION:This is an informal opportunity for questions and answers\, to go over case studies\,  and to review specific information from class in more detail. \nIn this Practical Skills review\, we start at the beginning with scanning – to make sure everyone is on the same page and confident with their scanning skills.  Then we review each of the techniques from the Level I class in the first hour\, and Level 2 in the second hour\, in the context of doing self-healing. \nPlease bring your book and any questions – look forward to seeing you! \nPrerequisite:  Level 1 or 2 graduate. \nPlease RSVP so I know how many chairs to set up.
URL:https://www.heart-to-heart-healing.com/event/level-1-and-2-review-practical-skills/
LOCATION:Multnomah Arts Center\, 7688 SW Capitol Hwy\, Portland\, OR\, 97219
CATEGORIES:Practical Skills Classes
ATTACH;FMTTYPE=image/jpeg:https://www.heart-to-heart-healing.com/wp-content/uploads/2014/02/scanning.jpg
END:VEVENT
BEGIN:VEVENT
DTSTART;TZID=America/Los_Angeles:20170617T100000
DTEND;TZID=America/Los_Angeles:20170617T120000
DTSTAMP:20260423T085220
CREATED:20170415T020032Z
LAST-MODIFIED:20170415T020032Z
UID:10000064-1497693600-1497700800@www.heart-to-heart-healing.com
SUMMARY:Introduction to Pranic Healing - Portland
DESCRIPTION:You are invited to this special Energy Healing class where we will learn a ‘no-touch’ technique for accelerating our body’s ability to heal itself.  Often referred to as “acupuncture without needles\,” Energy Healing is very effective\, is easy to learn and easy to use.  Come and discover your innate ability for healing with a technique that is drug-free and can be used anytime\, any place\, without any special tools. \nYou will learn how to assess your energetic condition and treat common first aid ailments such as cuts\, scrapes and burns.   This is not your ordinary sit-down lecture; you’ll be practicing each of these skills as you learn them.  The specific energy healing modality you’ll be learning is Pranic Healing.  Pranic Healing is a no-touch healing technique that offers specific\, tested\, step-by-step procedures for accelerating your self-healing ability!  Pranic Healing works on physical conditions as well as things like stress\, fears and phobias.  It complements Western medicine as well as other healing modalities. \nPranic Healing is based on the principle that\, in addition to our physical body\, we all have an energy body.   This energy body acts as the template for the physical body\, so when the energy body is out of balance\, the physical body will reflect that by manifesting a “symptom.”  This very simple\, yet powerful practice provides us with ways to keep the energy body in balance.  As a result\, the physical body heals itself\, sometimes at an amazing rate. \nAccording to Ms. Burney\, “Many people have the idea that in order to do energy healing\, a person has to have some ‘special’ talent.  That is simply not the case.  Anyone can do this.  My goal is to present this information in a way that is straightforward and makes sense\, not as some mystical or ‘supernatural’ process that we can’t understand.  There’s lots of scientific research behind this work\, and I know if I want to see the research\, other people do too.  My strong professional background as an attorney definitely influences my presentations and the teaching I do. ” \nLiza Burney\, owner of Heart to Heart Healing\, located in Portland\, OR\, has been studying subtle energy for over fifteen years and is a frequent speaker at events and Expos on a variety of energy healing topics.  Pranic Healing is respectful of all religions and philosophies. \n\nNCBTMB – Liza Burney is approved by the National Certification Board for Therapeutic Massage & Bodywork (NCBTMB) as a continuing education  Approved Provider. #571 thru 7/15/2017 \nThis class is approved for 2 hours of credit. Certificate available for additional $25.  Please make arrangements in advance. \n\nTo register\, please sign up here.  $20 cash/check at the door. \n 
URL:https://www.heart-to-heart-healing.com/event/introduction-to-pranic-healing-portland/
LOCATION:Multnomah Arts Center\, 7688 SW Capitol Hwy\, Portland\, OR\, 97219
CATEGORIES:Intro Classes
ATTACH;FMTTYPE=image/jpeg:https://www.heart-to-heart-healing.com/wp-content/uploads/2014/02/aura-clear.jpg
END:VEVENT
END:VCALENDAR