BEGIN:VCALENDAR
VERSION:2.0
PRODID:-//Heart to Heart Healing - ECPv6.15.20//NONSGML v1.0//EN
CALSCALE:GREGORIAN
METHOD:PUBLISH
X-WR-CALNAME:Heart to Heart Healing
X-ORIGINAL-URL:https://www.heart-to-heart-healing.com
X-WR-CALDESC:Events for Heart to Heart Healing
REFRESH-INTERVAL;VALUE=DURATION:PT1H
X-Robots-Tag:noindex
X-PUBLISHED-TTL:PT1H
BEGIN:VTIMEZONE
TZID:America/Los_Angeles
BEGIN:DAYLIGHT
TZOFFSETFROM:-0800
TZOFFSETTO:-0700
TZNAME:PDT
DTSTART:20200308T100000
END:DAYLIGHT
BEGIN:STANDARD
TZOFFSETFROM:-0700
TZOFFSETTO:-0800
TZNAME:PST
DTSTART:20201101T090000
END:STANDARD
BEGIN:DAYLIGHT
TZOFFSETFROM:-0800
TZOFFSETTO:-0700
TZNAME:PDT
DTSTART:20210314T100000
END:DAYLIGHT
BEGIN:STANDARD
TZOFFSETFROM:-0700
TZOFFSETTO:-0800
TZNAME:PST
DTSTART:20211107T090000
END:STANDARD
BEGIN:DAYLIGHT
TZOFFSETFROM:-0800
TZOFFSETTO:-0700
TZNAME:PDT
DTSTART:20220313T100000
END:DAYLIGHT
BEGIN:STANDARD
TZOFFSETFROM:-0700
TZOFFSETTO:-0800
TZNAME:PST
DTSTART:20221106T090000
END:STANDARD
BEGIN:DAYLIGHT
TZOFFSETFROM:-0800
TZOFFSETTO:-0700
TZNAME:PDT
DTSTART:20230312T100000
END:DAYLIGHT
BEGIN:STANDARD
TZOFFSETFROM:-0700
TZOFFSETTO:-0800
TZNAME:PST
DTSTART:20231105T090000
END:STANDARD
BEGIN:DAYLIGHT
TZOFFSETFROM:-0800
TZOFFSETTO:-0700
TZNAME:PDT
DTSTART:20240310T100000
END:DAYLIGHT
BEGIN:STANDARD
TZOFFSETFROM:-0700
TZOFFSETTO:-0800
TZNAME:PST
DTSTART:20241103T090000
END:STANDARD
BEGIN:DAYLIGHT
TZOFFSETFROM:-0800
TZOFFSETTO:-0700
TZNAME:PDT
DTSTART:20250309T100000
END:DAYLIGHT
BEGIN:STANDARD
TZOFFSETFROM:-0700
TZOFFSETTO:-0800
TZNAME:PST
DTSTART:20251102T090000
END:STANDARD
BEGIN:DAYLIGHT
TZOFFSETFROM:-0800
TZOFFSETTO:-0700
TZNAME:PDT
DTSTART:20260308T100000
END:DAYLIGHT
BEGIN:STANDARD
TZOFFSETFROM:-0700
TZOFFSETTO:-0800
TZNAME:PST
DTSTART:20261101T090000
END:STANDARD
END:VTIMEZONE
BEGIN:VEVENT
DTSTART;TZID=America/Los_Angeles:20250503T090000
DTEND;TZID=America/Los_Angeles:20250504T180000
DTSTAMP:20260424T090609
CREATED:20250217T224112Z
LAST-MODIFIED:20250319T231021Z
UID:10000376-1746262800-1746381600@www.heart-to-heart-healing.com
SUMMARY:Advanced Pranic Healing - Level 2 Seattle\, WA
DESCRIPTION:ADVANCED PRANIC HEALING® is a specialized workshop for those who wish to become more effective healers. \nIn ADVANCED PRANIC HEALING®\, you will learn how to utilize color prana for quicker\, more effective healing results. Color prana creates a more focused effect on the energy field and the chakras. \nHere are some of the other skills taught in ADVANCED PRANIC HEALING®: \nAdvanced color healing: You’ll learn to use the right proportion\, color combinations and degree of hue of colored prana. \nAdvanced scanning: You’ll learn to interpret and assess more quickly and effectively the correction of imbalances in the energy field patterns. \nPowerful specialized healing techniques: You’ll learn Rapid Healing of Wounds\,Cellular Regeneration\, Cleansing of the Internal Organs\, Cleansing of the Blood and other techniques to boost the immune system. \nHigh-level energetic methods of enhancing the body’s innate healing ability: You’ll learn techniques for working on AIDS\, cancer\, stroke\, diabetes\, kundalini syndrome (a state in which the aura is over-energized due to meditation or other excessive energy-development practices) and other severe ailments. \nInstructive healing: You’ll learn to help accelerate healing and recovery by influencing and reprogramming the consciousness of diseased cells and organs. \nAnd much more… \n\n$600 new student ($550 early registration thru April 19) \n$300 review student.   Pre-registration required.  No exceptions.  \n\n Scholarships are available.\n 
URL:https://www.heart-to-heart-healing.com/event/aphbellevue/
LOCATION:Fairview Inn & Suites\, 14595 NE 29th Place\, Bellevue\, WA\, 99206
CATEGORIES:Level 2 Classes
ATTACH;FMTTYPE=image/jpeg:https://www.heart-to-heart-healing.com/wp-content/uploads/2022/07/th-2409791026.jpg
END:VEVENT
BEGIN:VEVENT
DTSTART;TZID=America/Los_Angeles:20211023T090000
DTEND;TZID=America/Los_Angeles:20211024T180000
DTSTAMP:20260424T090609
CREATED:20210930T194605Z
LAST-MODIFIED:20210930T195753Z
UID:10000281-1634979600-1635098400@www.heart-to-heart-healing.com
SUMMARY:Advanced Pranic Healing - Level 2 Seattle\, WA
DESCRIPTION:ADVANCED PRANIC HEALING® is a specialized workshop for those who wish to become more effective healers. \nIn ADVANCED PRANIC HEALING®\, you will learn how to utilize color prana for quicker\, more effective healing results. Colored prana creates a more focused effect on the energy field and the chakras. \nHere are some of the other skills taught in ADVANCED PRANIC HEALING®: \nAdvanced color healing: You’ll learn to use the right proportion\, color combinations and degree of hue of colored prana. \nAdvanced scanning: You’ll learn to interpret and assess more quickly and effectively the correction of imbalances in the energy field patterns. \nPowerful specialized healing techniques: You’ll learn Rapid Healing of Wounds\,Cellular Regeneration\, Cleansing of the Internal Organs\, Cleansing of the Blood and other techniques to boost the immune system. \nHigh-level energetic methods of enhancing the body’s innate healing ability: You’ll learn techniques for working on AIDS\, cancer\, stroke\, diabetes\, kundalini syndrome (a state in which the aura is over-energized due to meditation or other excessive energy-development practices) and other severe ailments. \nInstructive healing: You’ll learn to help accelerate healing and recovery by influencing and reprogramming the consciousness of diseased cells and organs. \nAnd much more… \n$475 NEW student ($450 early registration through October 9).  $100 REVIEW student.   SCHOLARSHIPS available.\n \nPre-registration required.  No exceptions.  \nMasks and 6′ social distancing required.  No drop in’s day of event. \n\nLiza Burney is approved by the National Certification Board for Therapeutic Massage & Bodywork (NCBTMB) as a continuing education  Approved Provider. #571. \nThis course is approved for 16 CE through NCBTMB. (pending) \nCertificate is an additional $25 to the course fee.  Please make arrangements in advance.
URL:https://www.heart-to-heart-healing.com/event/aph-seattle-2021-10/
LOCATION:Fairview Inn & Suites\, 14595 NE 29th Place\, Bellevue\, WA\, 99206
CATEGORIES:Level 2 Classes
ATTACH;FMTTYPE=image/png:https://www.heart-to-heart-healing.com/wp-content/uploads/2017/03/APH2.png
END:VEVENT
END:VCALENDAR