BEGIN:VCALENDAR
VERSION:2.0
PRODID:-//Heart to Heart Healing - ECPv6.15.20//NONSGML v1.0//EN
CALSCALE:GREGORIAN
METHOD:PUBLISH
X-WR-CALNAME:Heart to Heart Healing
X-ORIGINAL-URL:https://www.heart-to-heart-healing.com
X-WR-CALDESC:Events for Heart to Heart Healing
REFRESH-INTERVAL;VALUE=DURATION:PT1H
X-Robots-Tag:noindex
X-PUBLISHED-TTL:PT1H
BEGIN:VTIMEZONE
TZID:America/Los_Angeles
BEGIN:DAYLIGHT
TZOFFSETFROM:-0800
TZOFFSETTO:-0700
TZNAME:PDT
DTSTART:20150308T100000
END:DAYLIGHT
BEGIN:STANDARD
TZOFFSETFROM:-0700
TZOFFSETTO:-0800
TZNAME:PST
DTSTART:20151101T090000
END:STANDARD
BEGIN:DAYLIGHT
TZOFFSETFROM:-0800
TZOFFSETTO:-0700
TZNAME:PDT
DTSTART:20160313T100000
END:DAYLIGHT
BEGIN:STANDARD
TZOFFSETFROM:-0700
TZOFFSETTO:-0800
TZNAME:PST
DTSTART:20161106T090000
END:STANDARD
BEGIN:DAYLIGHT
TZOFFSETFROM:-0800
TZOFFSETTO:-0700
TZNAME:PDT
DTSTART:20170312T100000
END:DAYLIGHT
BEGIN:STANDARD
TZOFFSETFROM:-0700
TZOFFSETTO:-0800
TZNAME:PST
DTSTART:20171105T090000
END:STANDARD
END:VTIMEZONE
BEGIN:VEVENT
DTSTART;TZID=America/Los_Angeles:20160813T090000
DTEND;TZID=America/Los_Angeles:20160814T180000
DTSTAMP:20260421T041717
CREATED:20151119T171830Z
LAST-MODIFIED:20160722T222707Z
UID:10000027-1471078800-1471197600@www.heart-to-heart-healing.com
SUMMARY:Basic Pranic Healing - Level I (Bend)
DESCRIPTION:In PRANIC HEALING® Level 1\, you learn the basics of working with your energy aura\, including learning to “scan\,” or feel the energy\, to “sweep\,” or clean away congested energy\, and to “energize\,” or supplement areas in your aura that have a pranic deficiency.  You begin by learning to activate the energy centers\, or “chakras\,” in the center of your hands.  This enables you to become sensitive to prana and scan a person’s – or your own – energy field to identify blockages and then cleanse\, energize and revitalize the area with new prana. \nPRANIC HEALING® has been taught to doctors\, nurses\, massage therapists\, acupuncturists\, chiropractors\, shiatsu practitioners\, and many others in the healing field. It has allowed them to heal confidently and consistently in the shortest learning time possible.  These professionals find PRANIC HEALING® very effective and easy to apply.  \n$350 early registration through July 30 $375 regular price.   \nTo register and for more information: CLICK HERE. \nLink to Registration Form
URL:https://www.heart-to-heart-healing.com/event/basic-pranic-healing-level-i-bend/
LOCATION:Bend Community Healing\, 155 SW Century Drive\, Bend\, 97702
CATEGORIES:Level I Classes
ATTACH;FMTTYPE=image/jpeg:https://www.heart-to-heart-healing.com/wp-content/uploads/2014/02/level-i-detail-e1392688017411.jpg
END:VEVENT
BEGIN:VEVENT
DTSTART;TZID=America/Los_Angeles:20160710T140000
DTEND;TZID=America/Los_Angeles:20160710T160000
DTSTAMP:20260421T041717
CREATED:20160509T225331Z
LAST-MODIFIED:20160622T002225Z
UID:10000183-1468159200-1468166400@www.heart-to-heart-healing.com
SUMMARY:SuperBrain Technique - Bend
DESCRIPTION:Learn to boost your vitality\, recharge your brain power\, experience emotional calmness and mental clarity with this ancient technique that harnesses the body’s subtle energies.\n\nSuperBrain Yoga® is a simple and effective technique to energize and recharge the brain. It is based on the principles of subtle energy and ear acupuncture to balance the left and right brain energies\, and strengthen the overall energy of the brain. \nThrough this simple yet powerful exercise you can experience mental clarity\, emotional calmness\, razor sharp focus and increased learning ability.  Pilot studies show dramatic improvements in children diagnosed with Autism\, ADD and ADHD\, such as increase in academic and behavioral performance\, greater class participation and improved social skills. This is also a great exercise to keep the mind sharp as the body ages! \nTogether with Pranic Healing® you can learn to harness subtle energy to flush out stress\, boost your vitality and accelerate healing of common health problems! Pranic Healing® is based on the fundamental principle that the body is a self-repairing living entity that possesses the innate ability to heal itself. \nFor more info: http://heart-to-heart-healing.com/services/superbrainyoga/
URL:https://www.heart-to-heart-healing.com/event/sby-2/
LOCATION:Bend Community Healing\, 155 SW Century Drive\, Bend\, 97702
CATEGORIES:Intro Classes
ATTACH;FMTTYPE=image/bmp:https://www.heart-to-heart-healing.com/wp-content/uploads/2014/09/wg6fpxey.bmp
END:VEVENT
BEGIN:VEVENT
DTSTART;TZID=America/Los_Angeles:20160709T140000
DTEND;TZID=America/Los_Angeles:20160709T160000
DTSTAMP:20260421T041717
CREATED:20160509T225204Z
LAST-MODIFIED:20160509T225204Z
UID:10000181-1468072800-1468080000@www.heart-to-heart-healing.com
SUMMARY:Introduction to Energy Healing - Bend
DESCRIPTION:You are invited to this special Energy Healing class where we will learn a ‘no-touch’ technique for accelerating our body’s ability to heal itself.  Often referred to as “acupuncture without needles\,” Energy Healing is very effective\, is easy to learn and easy to use.  Come and discover your innate ability for healing with a technique that is drug-free and can be used anytime\, any place\, without any special tools. \nYou will learn how to assess your energetic condition and treat common first aid ailments such as cuts\, scrapes and burns.   This is not your ordinary sit-down lecture; you’ll be practicing each of these skills as you learn them.  The specific energy healing modality you’ll be learning is Pranic Healing.  Pranic Healing is a no-touch healing technique that offers specific\, tested\, step-by-step procedures for accelerating your self-healing ability!  Pranic Healing works on physical conditions as well as things like stress\, fears and phobias.  It complements Western medicine as well as other healing modalities. \nPranic Healing is based on the principle that\, in addition to our physical body\, we all have an energy body.   This energy body acts as the template for the physical body\, so when the energy body is out of balance\, the physical body will reflect that by manifesting a “symptom.”  This very simple\, yet powerful practice provides us with ways to keep the energy body in balance.  As a result\, the physical body heals itself\, sometimes at an amazing rate. \nAccording to Ms. Burney\, “Many people have the idea that in order to do energy healing\, a person has to have some ‘special’ talent.  That is simply not the case.  Anyone can do this.  My goal is to present this information in a way that is straightforward and makes sense\, not as some mystical or ‘supernatural’ process that we can’t understand.  There’s lots of scientific research behind this work\, and I know if I want to see the research\, other people do too.  My strong professional background as an attorney definitely influences my presentations and the teaching I do. ” \nLiza Burney\, owner of Heart to Heart Healing\, located in Portland\, OR\, has been studying subtle energy for over fifteen years and is a frequent speaker at events and Expos on a variety of energy healing topics.  Pranic Healing is respectful of all religions and philosophies.
URL:https://www.heart-to-heart-healing.com/event/introduction-to-energy-healing-bend/
LOCATION:Bend Community Healing\, 155 SW Century Drive\, Bend\, 97702
CATEGORIES:Intro Classes
ATTACH;FMTTYPE=image/jpeg:https://www.heart-to-heart-healing.com/wp-content/uploads/2014/02/aura-clear.jpg
END:VEVENT
BEGIN:VEVENT
DTSTART;TZID=America/Los_Angeles:20160612T140000
DTEND;TZID=America/Los_Angeles:20160612T160000
DTSTAMP:20260421T041717
CREATED:20160509T225033Z
LAST-MODIFIED:20160509T225118Z
UID:10000182-1465740000-1465747200@www.heart-to-heart-healing.com
SUMMARY:Stress Relief & Energy Hygiene - Bend
DESCRIPTION:Are you a Doctor\, Nurse\, Lawyer\, Massage Therapist\, Chiropractor\, Bodyworker\, Hairdresser\, Physical Therapist\, Social Worker\, Counselor\, Acupuncturist or anyone else who works closely with people\, especially in a healing context? \n\nHave you ever felt tired or drained after a long day at work? Or what about feeling heavy and nauseous after listening to another person’s problems?\nAre you the primary caretaker of another family member?\nDo you take on the stress of your clients?\nDoes your client feel better\, but you feel worse?\nDo you literally feel your client’s pain?\nAre you sensitive to dirty energy in a room?\n\nYou may be experiencing energy transference.  You can eliminate and prevent this\, which is the idea behind “Energy Hygiene.” \nLearn the simple\, step-by-step approach of Energy Hygiene\, which is the practice of keeping your energy body as clean and charged up as possible through special physical exercises\, the use of salt as an energetic cleansing agent and numerous other techniques. Most people feel their personal energy surge when they begin practicing energetic hygiene regularly. \n\nLearn how to not absorb the energy of your clients.\nPractice techniques to release energy that has already been absorbed.\nUnderstand the process of disconnecting energetically from another person.\nExperience the benefit of an energetically clean treatment room for yourself and for your client.\nPractice the techniques in class so you can be confident in applying them immediately.\n\nNote: This is a great workshop for people who are health care providers or caretakers of family members\, although everyone can benefit from this information.  Bring your partners to this powerful workshop for immediate application and results! \n\nNCBTMB – Liza Burney is approved by the National Certification Board for Therapeutic Massage & Bodywork (NCBTMB) as a continuing education  Approved Provider. #571 thru 7/15/2017 \nThis class is approved for 2 hours of credit. \n\nLiza Burney\, owner of Heart to Heart Healing\, located in Portland\, OR\, has been studying subtle energy for over fifteen years and is a frequent speaker at events and Expos on a variety of energy healing topics.  Pranic Healing is respectful of all religions and philosophies.
URL:https://www.heart-to-heart-healing.com/event/stress-relief/
LOCATION:Bend Community Healing\, 155 SW Century Drive\, Bend\, 97702
CATEGORIES:Intro Classes
ATTACH;FMTTYPE=image/jpeg:https://www.heart-to-heart-healing.com/wp-content/uploads/2015/06/iStock_000034038062_XXXLarge.jpg
END:VEVENT
BEGIN:VEVENT
DTSTART;TZID=America/Los_Angeles:20160611T140000
DTEND;TZID=America/Los_Angeles:20160611T160000
DTSTAMP:20260421T041717
CREATED:20160509T224802Z
LAST-MODIFIED:20160509T224802Z
UID:10000180-1465653600-1465660800@www.heart-to-heart-healing.com
SUMMARY:Introduction to Energy Healing - Bend
DESCRIPTION:You are invited to this special Energy Healing class where we will learn a ‘no-touch’ technique for accelerating our body’s ability to heal itself.  Often referred to as “acupuncture without needles\,” Energy Healing is very effective\, is easy to learn and easy to use.  Come and discover your innate ability for healing with a technique that is drug-free and can be used anytime\, any place\, without any special tools. \nYou will learn how to assess your energetic condition and treat common first aid ailments such as cuts\, scrapes and burns.   This is not your ordinary sit-down lecture; you’ll be practicing each of these skills as you learn them.  The specific energy healing modality you’ll be learning is Pranic Healing.  Pranic Healing is a no-touch healing technique that offers specific\, tested\, step-by-step procedures for accelerating your self-healing ability!  Pranic Healing works on physical conditions as well as things like stress\, fears and phobias.  It complements Western medicine as well as other healing modalities. \nPranic Healing is based on the principle that\, in addition to our physical body\, we all have an energy body.   This energy body acts as the template for the physical body\, so when the energy body is out of balance\, the physical body will reflect that by manifesting a “symptom.”  This very simple\, yet powerful practice provides us with ways to keep the energy body in balance.  As a result\, the physical body heals itself\, sometimes at an amazing rate. \nAccording to Ms. Burney\, “Many people have the idea that in order to do energy healing\, a person has to have some ‘special’ talent.  That is simply not the case.  Anyone can do this.  My goal is to present this information in a way that is straightforward and makes sense\, not as some mystical or ‘supernatural’ process that we can’t understand.  There’s lots of scientific research behind this work\, and I know if I want to see the research\, other people do too.  My strong professional background as an attorney definitely influences my presentations and the teaching I do. ” \nLiza Burney\, owner of Heart to Heart Healing\, located in Portland\, OR\, has been studying subtle energy for over fifteen years and is a frequent speaker at events and Expos on a variety of energy healing topics.  Pranic Healing is respectful of all religions and philosophies.
URL:https://www.heart-to-heart-healing.com/event/intro/
LOCATION:Bend Community Healing\, 155 SW Century Drive\, Bend\, 97702
CATEGORIES:Intro Classes
ATTACH;FMTTYPE=image/jpeg:https://www.heart-to-heart-healing.com/wp-content/uploads/2014/02/aura-clear.jpg
END:VEVENT
END:VCALENDAR